BEGIN:VCALENDAR
VERSION:2.0
PRODID:-//ChamberMaster//Event Calendar 2.0//EN
METHOD:PUBLISH
X-PUBLISHED-TTL:P1H
REFRESH-INTERVAL:P1H
CALSCALE:GREGORIAN
BEGIN:VTIMEZONE
TZID:America/Chicago
BEGIN:DAYLIGHT
RRULE:FREQ=YEARLY;BYMONTH=3;BYDAY=2SU
DTSTART:20070101T000000
TZOFFSETFROM:-0600
TZOFFSETTO:-0500
TZNAME:Central Daylight Time
END:DAYLIGHT
BEGIN:STANDARD
RRULE:FREQ=YEARLY;BYMONTH=11;BYDAY=1SU
DTSTART:20070101T000000
TZOFFSETFROM:-0500
TZOFFSETTO:-0600
TZNAME:Central Standard Time
END:STANDARD
END:VTIMEZONE
BEGIN:VEVENT
DTSTART;TZID=America/Chicago:20260407T160000
DTEND;TZID=America/Chicago:20260407T163000
X-MICROSOFT-CDO-ALLDAYEVENT:FALSE
SUMMARY:Ribbon Cutting for Tia Juanita's Fish Camp Waco
DESCRIPTION:Please join us for a ribbon cutting on Tuesday\, April 7th at 4:00 PM for Tia Juanita's Fish Camp Waco! Chamber members are welcome to attend and show their support. Help us celebrate a local business growing here in our community.  For more information on this business\, visit their webpage http://www.tjfishcamp.comWe hope to see you there!
X-ALT-DESC;FMTTYPE=text/html:<!DOCTYPE html><html><head><title></title></head><body aria-disabled="false"><p>Please join us for a ribbon cutting on Tuesday\, April 7th at 4:00 PM for Tia Juanita&#39\;s Fish Camp Waco! Chamber members are welcome to attend and show their support. Help us celebrate a local business growing here in our community. &nbsp\;For more information on this business\, visit their webpage <a fr-original-style="" href="http://www.tjfishcamp.com" style="user-select: auto\;">http://www.tjfishcamp.com</a></p><p>We hope to see you there!</p></body></html>
LOCATION:4671 S Jack Kultgen Expwy Waco TX 76707
UID:e.1482.1416688
SEQUENCE:3
DTSTAMP:20260419T180525Z
URL:https://business.wacochamber.com/businesstoeducationcalendar/Details/ribbon-cutting-for-tia-juanita-s-fish-camp-waco-1674542?sourceTypeId=Hub
END:VEVENT
END:VCALENDAR
