BEGIN:VCALENDAR
VERSION:2.0
PRODID:-//ChamberMaster//Event Calendar 2.0//EN
METHOD:PUBLISH
X-PUBLISHED-TTL:P1H
REFRESH-INTERVAL:P1H
CALSCALE:GREGORIAN
BEGIN:VTIMEZONE
TZID:America/Chicago
BEGIN:DAYLIGHT
RRULE:FREQ=YEARLY;BYMONTH=3;BYDAY=2SU
DTSTART:20070101T000000
TZOFFSETFROM:-0600
TZOFFSETTO:-0500
TZNAME:Central Daylight Time
END:DAYLIGHT
BEGIN:STANDARD
RRULE:FREQ=YEARLY;BYMONTH=11;BYDAY=1SU
DTSTART:20070101T000000
TZOFFSETFROM:-0500
TZOFFSETTO:-0600
TZNAME:Central Standard Time
END:STANDARD
END:VTIMEZONE
BEGIN:VEVENT
DTSTART;TZID=America/Chicago:20260402T160000
DTEND;TZID=America/Chicago:20260402T163000
X-MICROSOFT-CDO-ALLDAYEVENT:FALSE
SUMMARY:Ribbon Cutting for Reclaimed Relics
DESCRIPTION:Please join us for a ribbon cutting on Thursday\, April 2nd at 4:00PM to celebrate the new location for Reclaimed Relics. Chamber members are welcome to attend and show their support. Help us celebrate a local business growing here in our community.  We hope to see you there!
X-ALT-DESC;FMTTYPE=text/html:<!DOCTYPE html><html><head><title></title></head><body aria-disabled="false"><p>Please join us for a ribbon cutting on Thursday\, April 2nd at 4:00PM to celebrate the new location for Reclaimed Relics. Chamber members are welcome to attend and show their support. Help us celebrate a local business growing here in our community. &nbsp\;We hope to see you there!</p></body></html>
LOCATION:3954 Old Lorena Rd Lorena TX
UID:e.1482.1415584
SEQUENCE:3
DTSTAMP:20260419T180340Z
URL:https://business.wacochamber.com/businesstoeducationcalendar/Details/ribbon-cutting-for-reclaimed-relics-1673053?sourceTypeId=Hub
END:VEVENT
END:VCALENDAR
