BEGIN:VCALENDAR
VERSION:2.0
PRODID:-//ChamberMaster//Event Calendar 2.0//EN
METHOD:PUBLISH
X-PUBLISHED-TTL:P1H
REFRESH-INTERVAL:P1H
CALSCALE:GREGORIAN
BEGIN:VTIMEZONE
TZID:America/Chicago
BEGIN:DAYLIGHT
RRULE:FREQ=YEARLY;BYMONTH=3;BYDAY=2SU
DTSTART:20070101T000000
TZOFFSETFROM:-0600
TZOFFSETTO:-0500
TZNAME:Central Daylight Time
END:DAYLIGHT
BEGIN:STANDARD
RRULE:FREQ=YEARLY;BYMONTH=11;BYDAY=1SU
DTSTART:20070101T000000
TZOFFSETFROM:-0500
TZOFFSETTO:-0600
TZNAME:Central Standard Time
END:STANDARD
END:VTIMEZONE
BEGIN:VEVENT
DTSTART;TZID=America/Chicago:20260603T113000
DTEND;TZID=America/Chicago:20260603T120000
X-MICROSOFT-CDO-ALLDAYEVENT:FALSE
SUMMARY:Ribbon Cutting for Raven Ecology
DESCRIPTION:Please join us for a ribbon cutting ceremony on Wednesday\, June 3rd at 11:30 AM for Raven Ecology. The event will take place at the Greater Waco Chamber and members are welcome to attend and show their support. Help us celebrate this local business growing here in our community. For more information on this business\, visit webpage www.ravenecology.com We hope to see you there!
X-ALT-DESC;FMTTYPE=text/html:<!DOCTYPE html><html><head><title></title></head><body aria-disabled="false"><p>Please join us for a ribbon cutting ceremony on Wednesday\, June 3rd at 11:30 AM for Raven Ecology. The event will take place at the Greater Waco Chamber and members are welcome to attend and show their support. Help us celebrate this local business growing here in our community. For more information on this business\, visit webpage <a fr-original-style="" href="https://ravenecology.com/" style="user-select: auto\;">www.ravenecology.com</a> We hope to see you there!</p></body></html>
LOCATION:101 S Third St Waco TX 76701
UID:e.1482.1440549
SEQUENCE:3
DTSTAMP:20260419T180155Z
URL:https://business.wacochamber.com/businesstoeducationcalendar/Details/ribbon-cutting-for-raven-ecology-1705541?sourceTypeId=Hub
END:VEVENT
END:VCALENDAR
