BEGIN:VCALENDAR
VERSION:2.0
PRODID:-//ChamberMaster//Event Calendar 2.0//EN
METHOD:PUBLISH
X-PUBLISHED-TTL:P1H
REFRESH-INTERVAL:P1H
CALSCALE:GREGORIAN
BEGIN:VTIMEZONE
TZID:America/Chicago
BEGIN:DAYLIGHT
RRULE:FREQ=YEARLY;BYMONTH=3;BYDAY=2SU
DTSTART:20070101T000000
TZOFFSETFROM:-0600
TZOFFSETTO:-0500
TZNAME:Central Daylight Time
END:DAYLIGHT
BEGIN:STANDARD
RRULE:FREQ=YEARLY;BYMONTH=11;BYDAY=1SU
DTSTART:20070101T000000
TZOFFSETFROM:-0500
TZOFFSETTO:-0600
TZNAME:Central Standard Time
END:STANDARD
END:VTIMEZONE
BEGIN:VEVENT
DTSTART;TZID=America/Chicago:20260611T160000
DTEND;TZID=America/Chicago:20260611T163000
X-MICROSOFT-CDO-ALLDAYEVENT:FALSE
SUMMARY:Ribbon Cutting for Maltek Solutions
DESCRIPTION:Please join us for a ribbon cutting ceremony on Thursday\, June 11th at 4:00 PM for Maltek Solutions. The event will take place at the Greater Waco Chamber and members are welcome to attend and show their support. Help us celebrate this local business growing here in our community. For more information on this business\, visit webpage www.malteksolutions.com  We hope to see you there!
X-ALT-DESC;FMTTYPE=text/html:<!DOCTYPE html><html><head><title></title></head><body aria-disabled="false"><p>Please join us for a ribbon cutting ceremony on Thursday\, June 11th at 4:00 PM for Maltek Solutions. The event will take place at the Greater Waco Chamber and members are welcome to attend and show their support. Help us celebrate this local business growing here in our community. For more information on this business\, visit webpage <a fr-original-style="" href="http://www.malteksolutions.com" style="user-select: auto\;"><span style="color: rgb(22\, 29\, 38)\; font-family: Roboto\, sans-serif\; font-size: 14px\; font-style: normal\; font-variant-ligatures: normal\; font-variant-caps: normal\; font-weight: 700\; letter-spacing: 0.5px\; orphans: 2\; text-align: start\; text-indent: 0px\; text-transform: none\; widows: 2\; word-spacing: 0px\; -webkit-text-stroke-width: 0px\; white-space: normal\; background-color: rgb(255\, 255\, 255)\; text-decoration-thickness: initial\; text-decoration-style: initial\; text-decoration-color: initial\; display: inline !important\; float: none\;">www.malteksolutions.com</span></a> &nbsp\;</p><p>We hope to see you there!</p></body></html>
LOCATION:TX
UID:e.1482.1443025
SEQUENCE:3
DTSTAMP:20260419T180032Z
URL:https://business.wacochamber.com/businesstoeducationcalendar/Details/ribbon-cutting-for-maltek-solutions-1709133?sourceTypeId=Hub
END:VEVENT
END:VCALENDAR
