BEGIN:VCALENDAR
VERSION:2.0
PRODID:-//ChamberMaster//Event Calendar 2.0//EN
METHOD:PUBLISH
X-PUBLISHED-TTL:P1H
REFRESH-INTERVAL:P1H
CALSCALE:GREGORIAN
BEGIN:VTIMEZONE
TZID:America/Chicago
BEGIN:DAYLIGHT
RRULE:FREQ=YEARLY;BYMONTH=3;BYDAY=2SU
DTSTART:20070101T000000
TZOFFSETFROM:-0600
TZOFFSETTO:-0500
TZNAME:Central Daylight Time
END:DAYLIGHT
BEGIN:STANDARD
RRULE:FREQ=YEARLY;BYMONTH=11;BYDAY=1SU
DTSTART:20070101T000000
TZOFFSETFROM:-0500
TZOFFSETTO:-0600
TZNAME:Central Standard Time
END:STANDARD
END:VTIMEZONE
BEGIN:VEVENT
DTSTART;TZID=America/Chicago:20260616T141500
DTEND;TZID=America/Chicago:20260616T144500
X-MICROSOFT-CDO-ALLDAYEVENT:FALSE
SUMMARY:Ribbon Cutting for ProCare Injury Specialists
DESCRIPTION:Join the Greater Waco Chamber for a ribbon cutting ceremony celebrating ProCare Injury Specialists on Tuesday\, June 16\, 2026\, at 2:15 PM.The business community is invited to attend and show their support as we celebrate the growth of this local company right here in our community.For more information about ProCare Injury Specialists\, please visit procareinjury.com/
X-ALT-DESC;FMTTYPE=text/html:<!DOCTYPE html><html><head><title></title></head><body aria-disabled="false"><p data-end="136" data-start="0">Join the Greater Waco Chamber for a ribbon cutting ceremony celebrating ProCare Injury Specialists on Tuesday\, June 16\, 2026\, at 2:15 PM.</p><p data-end="284" data-start="138">The business community is invited to attend and show their support as we celebrate the growth of this local company right here in our community.</p><p data-end="372" data-is-last-node="" data-is-only-node="" data-start="286">For more information about ProCare Injury Specialists\, please visit <a fr-original-style="" href="https://procareinjury.com/" style="user-select: auto\;">procareinjury.com/</a></p><p><br></p></body></html>
LOCATION:1011 S 10th St Waco TX 76706
UID:e.1482.1433808
SEQUENCE:3
DTSTAMP:20260420T062524Z
URL:https://business.wacochamber.com/businesstoeducationcalendar/Details/ribbon-cutting-for-procare-injury-specialists-1697266?sourceTypeId=Hub
END:VEVENT
END:VCALENDAR
