BEGIN:VCALENDAR
VERSION:2.0
PRODID:-//ChamberMaster//Event Calendar 2.0//EN
METHOD:PUBLISH
X-PUBLISHED-TTL:P1H
REFRESH-INTERVAL:P1H
CALSCALE:GREGORIAN
BEGIN:VTIMEZONE
TZID:America/Chicago
BEGIN:DAYLIGHT
RRULE:FREQ=YEARLY;BYMONTH=3;BYDAY=2SU
DTSTART:20070101T000000
TZOFFSETFROM:-0600
TZOFFSETTO:-0500
TZNAME:Central Daylight Time
END:DAYLIGHT
BEGIN:STANDARD
RRULE:FREQ=YEARLY;BYMONTH=11;BYDAY=1SU
DTSTART:20070101T000000
TZOFFSETFROM:-0500
TZOFFSETTO:-0600
TZNAME:Central Standard Time
END:STANDARD
END:VTIMEZONE
BEGIN:VEVENT
DTSTART;TZID=America/Chicago:20260408T100000
DTEND;TZID=America/Chicago:20260408T103000
X-MICROSOFT-CDO-ALLDAYEVENT:FALSE
SUMMARY:Ribbon Cutting for 7 Brew Coffee
DESCRIPTION:Please join us for a ribbon cutting on Wednesday\, April 8th at 10:00 AM to celebrate the newest location for 7 Brew Coffee on N. Valley Mills Drive. Chamber members are welcome to attend and show their support. Help us celebrate a business growing here in our community.  For more information on this business\, visit their webpage https://locations.7brew.com/tx/waco/1540-north-valley-mills-drive We hope to see you there!
X-ALT-DESC;FMTTYPE=text/html:<!DOCTYPE html><html><head><title></title></head><body aria-disabled="false"><p>Please join us for a ribbon cutting on Wednesday\, April 8th at 10:00 AM to celebrate the newest location for 7 Brew Coffee on N. Valley Mills Drive. Chamber members are welcome to attend and show their support. Help us celebrate a business growing here in our community. &nbsp\;For more information on this business\, visit their webpage <a fr-original-style="" href="https://locations.7brew.com/tx/waco/1540-north-valley-mills-drive" style="user-select: auto\;">https://locations.7brew.com/tx/waco/1540-north-valley-mills-drive</a>&nbsp\;</p><p>We hope to see you there!</p></body></html>
LOCATION:1540 N Valley Mills Dr Waco TX 76710
UID:e.1482.1417748
SEQUENCE:3
DTSTAMP:20260420T062454Z
URL:https://business.wacochamber.com/businesstoeducationcalendar/Details/ribbon-cutting-for-7-brew-coffee-1675848?sourceTypeId=Hub
END:VEVENT
END:VCALENDAR
