BEGIN:VCALENDAR
VERSION:2.0
PRODID:-//ChamberMaster//Event Calendar 2.0//EN
METHOD:PUBLISH
X-PUBLISHED-TTL:P1H
REFRESH-INTERVAL:P1H
CALSCALE:GREGORIAN
BEGIN:VTIMEZONE
TZID:America/Chicago
BEGIN:DAYLIGHT
RRULE:FREQ=YEARLY;BYMONTH=3;BYDAY=2SU
DTSTART:20070101T000000
TZOFFSETFROM:-0600
TZOFFSETTO:-0500
TZNAME:Central Daylight Time
END:DAYLIGHT
BEGIN:STANDARD
RRULE:FREQ=YEARLY;BYMONTH=11;BYDAY=1SU
DTSTART:20070101T000000
TZOFFSETFROM:-0500
TZOFFSETTO:-0600
TZNAME:Central Standard Time
END:STANDARD
END:VTIMEZONE
BEGIN:VEVENT
DTSTART;TZID=America/Chicago:20260408T080000
DTEND;TZID=America/Chicago:20260417T170000
X-MICROSOFT-CDO-ALLDAYEVENT:FALSE
SUMMARY:Ivy Creek Wellness Meet and Greet
DESCRIPTION:We are having a meet and greet\, you can meet all of our department head staff and connect with us. We are under new roots and would like to let everyone know the great news.
X-ALT-DESC;FMTTYPE=text/html:<!DOCTYPE html><html><head><title></title></head><body aria-disabled="false"><p>We are having a meet and greet\, you can meet all of our department head staff and connect with us. We are under new roots and would like to let everyone know the great news.</p></body></html>
LOCATION:2501 Maple Ave Waco TX 76707
UID:e.1482.1438863
SEQUENCE:3
DTSTAMP:20260420T062525Z
URL:https://business.wacochamber.com/businesstoeducationcalendar/Details/ivy-creek-wellness-meet-and-greet-1703062?sourceTypeId=Hub
END:VEVENT
END:VCALENDAR
