BEGIN:VCALENDAR
VERSION:2.0
PRODID:-//ChamberMaster//Event Calendar 2.0//EN
METHOD:PUBLISH
X-PUBLISHED-TTL:P1H
REFRESH-INTERVAL:P1H
CALSCALE:GREGORIAN
BEGIN:VTIMEZONE
TZID:America/Chicago
BEGIN:DAYLIGHT
RRULE:FREQ=YEARLY;BYMONTH=3;BYDAY=2SU
DTSTART:20070101T000000
TZOFFSETFROM:-0600
TZOFFSETTO:-0500
TZNAME:Central Daylight Time
END:DAYLIGHT
BEGIN:STANDARD
RRULE:FREQ=YEARLY;BYMONTH=11;BYDAY=1SU
DTSTART:20070101T000000
TZOFFSETFROM:-0500
TZOFFSETTO:-0600
TZNAME:Central Standard Time
END:STANDARD
END:VTIMEZONE
BEGIN:VEVENT
DTSTART;TZID=America/Chicago:20260419T120000
DTEND;TZID=America/Chicago:20260419T150000
X-MICROSOFT-CDO-ALLDAYEVENT:FALSE
SUMMARY:Hotel 1928's Spring Wedding Showcase
DESCRIPTION:We invite you to stop by and see us at our come-and-go Spring Wedding Showcase in The Ballroom at Hotel 1928.\nMeet talented vendors\, sample delicious hors d'oeuvres\, and envision your dream wedding in our stunning venue. From staged ceremony and reception setups to beautiful floral arrangements\, you'll meet everyone you need to plan your special day.\nBring your fiancé\, wedding party\, or family with you\, so everyone can experience what your wedding at Hotel 1928 could look like.\nEvent attendees can enjoy exclusive perks\, passed appetizers\, and a chance to win a $250 Hotel 1928 dining credit.\nThis event is free\, but please RSVP so we can anticipate your attendance.\nSunday\, April 19th | 12 PM - 3 PM CST
X-ALT-DESC;FMTTYPE=text/html:We invite you to stop by and see us at our come-and-go Spring Wedding Showcase in The Ballroom at Hotel 1928.\nMeet talented vendors\, sample delicious hors d'oeuvres\, and envision your dream wedding in our stunning venue. From staged ceremony and reception setups to beautiful floral arrangements\, you'll meet everyone you need to plan your special day.\nBring your fiancé\, wedding party\, or family with you\, so everyone can experience what your wedding at Hotel 1928 could look like.\nEvent attendees can enjoy exclusive perks\, passed appetizers\, and a chance to win a $250 Hotel 1928 dining credit.\nThis event is free\, but please RSVP so we can anticipate your attendance.\nSunday\, April 19th | 12 PM - 3 PM CST
LOCATION:701 Washington Ave Waco TX 76701
UID:e.1482.1434731
SEQUENCE:3
DTSTAMP:20260420T062454Z
URL:https://business.wacochamber.com/businesstoeducationcalendar/Details/hotel-1928-s-spring-wedding-showcase-1698318?sourceTypeId=Hub
END:VEVENT
END:VCALENDAR
