BEGIN:VCALENDAR
VERSION:2.0
PRODID:-//ChamberMaster//Event Calendar 2.0//EN
METHOD:PUBLISH
X-PUBLISHED-TTL:P1H
REFRESH-INTERVAL:P1H
CALSCALE:GREGORIAN
BEGIN:VTIMEZONE
TZID:America/Chicago
BEGIN:DAYLIGHT
RRULE:FREQ=YEARLY;BYMONTH=3;BYDAY=2SU
DTSTART:20070101T000000
TZOFFSETFROM:-0600
TZOFFSETTO:-0500
TZNAME:Central Daylight Time
END:DAYLIGHT
BEGIN:STANDARD
RRULE:FREQ=YEARLY;BYMONTH=11;BYDAY=1SU
DTSTART:20070101T000000
TZOFFSETFROM:-0500
TZOFFSETTO:-0600
TZNAME:Central Standard Time
END:STANDARD
END:VTIMEZONE
BEGIN:VEVENT
DTSTART;TZID=America/Chicago:20260425T100000
DTEND;TZID=America/Chicago:20260425T143000
X-MICROSOFT-CDO-ALLDAYEVENT:FALSE
SUMMARY:Baylor Fan Fest: FREE COMMUNITY ADMISSION
DESCRIPTION:Live music from the Sloppy Joe Band Youth Skills Combine   kids grades 3-8 can sign up to learn football skills from Baylor Football student-athletesCombine sign up form: Baylor Youth Skills CombineBackyard BBQ Cookoff   fans can bring their best BBQ recipe to be evaluated by celebrity judges. The winner will receive 2 free football season tickets!Cookoff sign up form: Baylor Backyard Tailgating Interest FormCornhole Tournament   teams of 2 can sign up to participate in a cornhole tournament. The winning duo will each receive 1 free football season ticket!Cornhole sign up form: Baylor Backyard Tailgating Interest FormFood Truck Blvd.   10+ food trucks will be on the South Plaza for fans to enjoy Kids Zone   inflatables\, face painter\, coloring area\, uniform try-on station\, & photo opportunities with Baylor SpiritBaylor Football open practice from 1-2:25 p.m.
X-ALT-DESC;FMTTYPE=text/html:<!DOCTYPE html><html><head><title></title></head><body aria-disabled="false"><ul fr-original-style="" style="list-style-position: inside\;"><li>Live music from the Sloppy Joe Band&nbsp\;</li><li style="margin: 0in\; font-size: 12pt\; font-family: Aptos\, sans-serif\;">Youth Skills Combine &ndash\; kids grades 3-8 can sign up to learn football skills from Baylor Football student-athletes<ul fr-original-style="margin-bottom: 0in\; margin-top: 0in\;" style="margin-bottom: 0in\; margin-top: 0in\; list-style-position: inside\;" type="circle"><li style="margin: 0in\; font-size: 12pt\; font-family: Aptos\, sans-serif\;">Combine sign up form: <a data-outlook-id="dca23019-848c-4985-8e1d-5f9c9883bc25" fr-original-style="color: rgb(150\, 96\, 125)\; text-decoration: underline\;" href="https://app.baylorbears.com/2026YouthCombine" style="color: rgb(150\, 96\, 125)\; text-decoration: underline\; user-select: auto\;" title="https://app.baylorbears.com/2026YouthCombine">Baylor Youth Skills Combine</a></li></ul></li><li style="margin: 0in\; font-size: 12pt\; font-family: Aptos\, sans-serif\;">Backyard BBQ Cookoff &ndash\; fans can bring their best BBQ recipe to be evaluated by celebrity judges. <em>The winner will receive 2 free football season tickets!</em><ul fr-original-style="margin-bottom: 0in\; margin-top: 0in\;" style="margin-bottom: 0in\; margin-top: 0in\; list-style-position: inside\;" type="circle"><li style="margin: 0in\; font-size: 12pt\; font-family: Aptos\, sans-serif\;">Cookoff sign up form: <a data-outlook-id="d099171d-dee6-47f0-a052-e27123630cde" fr-original-style="color: rgb(150\, 96\, 125)\; text-decoration: underline\;" href="https://app.baylorbears.com/2026BBQ" style="color: rgb(150\, 96\, 125)\; text-decoration: underline\; user-select: auto\;" title="https://app.baylorbears.com/2026BBQ">Baylor Backyard Tailgating Interest Form</a></li></ul></li><li style="margin: 0in\; font-size: 12pt\; font-family: Aptos\, sans-serif\;">Cornhole Tournament &ndash\; teams of 2 can sign up to participate in a cornhole tournament. <em>The winning duo will each receive 1 free football season ticket!</em><ul fr-original-style="margin-bottom: 0in\; margin-top: 0in\;" style="margin-bottom: 0in\; margin-top: 0in\; list-style-position: inside\;" type="circle"><li style="margin: 0in\; font-size: 12pt\; font-family: Aptos\, sans-serif\;">Cornhole sign up form: <a data-outlook-id="c4548f7c-0b23-4e87-b5d5-b70b999cc3a4" fr-original-style="color: rgb(150\, 96\, 125)\; text-decoration: underline\;" href="https://app.baylorbears.com/2026Cornhole" style="color: rgb(150\, 96\, 125)\; text-decoration: underline\; user-select: auto\;" title="https://app.baylorbears.com/2026Cornhole">Baylor Backyard Tailgating Interest Form</a></li></ul></li><li style="margin: 0in\; font-size: 12pt\; font-family: Aptos\, sans-serif\;">Food Truck Blvd. &ndash\; 10+ food trucks will be on the South Plaza for fans to enjoy&nbsp\;</li><li style="margin: 0in\; font-size: 12pt\; font-family: Aptos\, sans-serif\;">Kids Zone &ndash\; inflatables\, face painter\, coloring area\, uniform try-on station\, &amp\; photo opportunities with Baylor Spirit</li><li style="margin: 0in\; font-size: 12pt\; font-family: Aptos\, sans-serif\;">Baylor Football open practice from 1-2:25 p.m.</li></ul></body></html>
LOCATION:Waco
UID:e.1482.1438436
SEQUENCE:3
DTSTAMP:20260420T062501Z
URL:https://business.wacochamber.com/businesstoeducationcalendar/Details/baylor-fan-fest-free-community-admission-1702525?sourceTypeId=Hub
END:VEVENT
END:VCALENDAR
