BEGIN:VCALENDAR
VERSION:2.0
PRODID:-//ChamberMaster//Event Calendar 2.0//EN
METHOD:PUBLISH
X-PUBLISHED-TTL:P1H
REFRESH-INTERVAL:P1H
CALSCALE:GREGORIAN
BEGIN:VTIMEZONE
TZID:America/Chicago
BEGIN:DAYLIGHT
RRULE:FREQ=YEARLY;BYMONTH=3;BYDAY=2SU
DTSTART:20070101T000000
TZOFFSETFROM:-0600
TZOFFSETTO:-0500
TZNAME:Central Daylight Time
END:DAYLIGHT
BEGIN:STANDARD
RRULE:FREQ=YEARLY;BYMONTH=11;BYDAY=1SU
DTSTART:20070101T000000
TZOFFSETFROM:-0500
TZOFFSETTO:-0600
TZNAME:Central Standard Time
END:STANDARD
END:VTIMEZONE
BEGIN:VEVENT
DTSTART;TZID=America/Chicago:20260429T160000
DTEND;TZID=America/Chicago:20260429T170000
X-MICROSOFT-CDO-ALLDAYEVENT:FALSE
SUMMARY:Ambassador Quarterly Meeting - April 2026
DESCRIPTION:The Greater Waco Chamber Ambassadors quarterly meeting will be held Wednesday\, April 29th from 4:00 p.m.   5:00 p.m. Networking kicks off at 4:00 p.m. and meeting begins at 4:15 p.m. AGENDA:  Chamber Updates  Ambassador Recognition  Event Planning & Ambassador Roles  Guest Speaker  Ambassador Business Spotlight Registration is required. We look forward to seeing you!This event is exclusive to active Chamber Ambassadors.  For more information on how to join the program or to receive more information about the program\, please contact Lupe Teichelman at lteichelman@wacochamber.com
X-ALT-DESC;FMTTYPE=text/html:<!DOCTYPE html><html><head><title></title></head><body aria-disabled="false"><p>The Greater Waco Chamber Ambassadors quarterly meeting will be held Wednesday\, April 29th from 4:00 p.m. &ndash\; 5:00 p.m. Networking kicks off at 4:00 p.m. and meeting begins at 4:15 p.m. AGENDA: &bull\;Chamber Updates &bull\;Ambassador Recognition &bull\;Event Planning &amp\; Ambassador Roles &bull\;Guest Speaker &bull\;Ambassador Business Spotlight Registration is required. We look forward to seeing you!</p><p><span style="color: rgb(40\, 50\, 78)\;"><strong fr-original-style="" style="font-weight: 700\;">This event is exclusive to active Chamber Ambassadors. &nbsp\;For more information on how to join the program or to receive more information about the program\, please contact Lupe Teichelman at</strong></span><span style="color: rgb(226\, 80\, 65)\;"><strong fr-original-style="" style="font-weight: 700\;">&nbsp\;</strong><a fr-original-style="" href="mailto:lteichelman@wacochamber.com" style="user-select: auto\; color: inherit\;"><strong fr-original-style="" style="font-weight: 700\;">lteichelman@wacochamber.com</strong></a> </span></p></body></html>
LOCATION:1705 N. 5th St. Waco TX 76708
UID:e.1482.1437650
SEQUENCE:3
DTSTAMP:20260420T062525Z
URL:https://business.wacochamber.com/businesstoeducationcalendar/Details/ambassador-quarterly-meeting-april-2026-1701595?sourceTypeId=Hub
END:VEVENT
END:VCALENDAR
