BEGIN:VCALENDAR
VERSION:2.0
PRODID:-//ChamberMaster//Event Calendar 2.0//EN
METHOD:PUBLISH
X-PUBLISHED-TTL:P1H
REFRESH-INTERVAL:P1H
CALSCALE:GREGORIAN
BEGIN:VTIMEZONE
TZID:America/Chicago
BEGIN:DAYLIGHT
RRULE:FREQ=YEARLY;BYMONTH=3;BYDAY=2SU
DTSTART:20070101T000000
TZOFFSETFROM:-0600
TZOFFSETTO:-0500
TZNAME:Central Daylight Time
END:DAYLIGHT
BEGIN:STANDARD
RRULE:FREQ=YEARLY;BYMONTH=11;BYDAY=1SU
DTSTART:20070101T000000
TZOFFSETFROM:-0500
TZOFFSETTO:-0600
TZNAME:Central Standard Time
END:STANDARD
END:VTIMEZONE
BEGIN:VEVENT
DTSTART;TZID=America/Chicago:20260609T153000
DTEND;TZID=America/Chicago:20260609T170000
X-MICROSOFT-CDO-ALLDAYEVENT:FALSE
SUMMARY:New Member Media Training
DESCRIPTION:Join us for our upcoming Media Training session\, part of the New Member Advertising Incentive\, on Tuesday\, June 9th from 3:30 p.m. to 5:00 p.m. at the Greater Waco Chamber office. During this event\, you'll have the opportunity to:Learn how to create an impactful TV ad with Nathan McCray from Spectrum ReachGet tips on effective print ads and marketing materials with Jacob Bradshaw from the Amplified DigitalExplore radio advertising opportunities with Hector Sabido from Prophecy Media GroupRegistration is required!For questions or more information\, please contact Emily Vieregg at (254) 757-5605 or email evieregg@wacochamber.com.
X-ALT-DESC;FMTTYPE=text/html:<!DOCTYPE html><html><head><title></title></head><body aria-disabled="false"><p>Join us for our upcoming Media Training session\, part of the New Member Advertising Incentive\, on Tuesday\, June 9th from 3:30 p.m. to 5:00 p.m. at the Greater Waco Chamber office. During this event\, you&rsquo\;ll have the opportunity to:</p><ul fr-original-style="list-style-type: circle\;" style="list-style-type: circle\; list-style-position: inside\;"><li>Learn how to create an impactful TV ad with <strong fr-original-style="" style="font-weight: 700\;"><span style="color: rgb(44\, 130\, 201)\;">Nathan McCray</span></strong> from <em>Spectrum Reach</em></li><li>Get tips on effective print ads and marketing materials with <strong fr-original-style="" style="font-weight: 700\;"><span style="color: rgb(65\, 168\, 95)\;">Jacob Bradshaw</span></strong> from the <em>Amplified Digital</em></li><li>Explore radio advertising opportunities with <strong fr-original-style="" style="font-weight: 700\;"><span style="color: rgb(184\, 49\, 47)\;">Hector Sabido</span></strong> from <em>Prophecy Media Group</em></li></ul><p><strong fr-original-style="" style="font-weight: 700\;"><span style="font-size: 18px\;">Registration is required!</span></strong></p><p>For questions or more information\, please contact Emily Vieregg at (254) 757-5605 or email evieregg@wacochamber.com.</p></body></html>
LOCATION:101 S Third St Waco TX 76701
UID:e.1482.1436925
SEQUENCE:3
DTSTAMP:20260420T073445Z
URL:https://business.wacochamber.com/businesstoeducationcalendar/Details/new-member-media-training-1700945?sourceTypeId=Hub
END:VEVENT
END:VCALENDAR
