BEGIN:VCALENDAR
VERSION:2.0
PRODID:-//ChamberMaster//Event Calendar 2.0//EN
METHOD:PUBLISH
X-PUBLISHED-TTL:P1H
REFRESH-INTERVAL:P1H
CALSCALE:GREGORIAN
BEGIN:VTIMEZONE
TZID:America/Chicago
BEGIN:DAYLIGHT
RRULE:FREQ=YEARLY;BYMONTH=3;BYDAY=2SU
DTSTART:20070101T000000
TZOFFSETFROM:-0600
TZOFFSETTO:-0500
TZNAME:Central Daylight Time
END:DAYLIGHT
BEGIN:STANDARD
RRULE:FREQ=YEARLY;BYMONTH=11;BYDAY=1SU
DTSTART:20070101T000000
TZOFFSETFROM:-0500
TZOFFSETTO:-0600
TZNAME:Central Standard Time
END:STANDARD
END:VTIMEZONE
BEGIN:VEVENT
DTSTART;TZID=America/Chicago:20260505T113000
DTEND;TZID=America/Chicago:20260505T130000
X-MICROSOFT-CDO-ALLDAYEVENT:FALSE
SUMMARY:New Member Luncheon
DESCRIPTION:You're invited to our New Member Luncheon on Tuesday\, May 5th from 11:30 a.m. to 1 p.m. at the Greater Waco Chamber of Commerce. You will have the opportunity to learn about what the Greater Waco Chamber can do for your business\, how you can become involved\, meet Chamber staff\, other new members\, and enjoy a free lunch. Please click the registration link below to register for this FREE new member event (feel free to bring one additional staff member and please include them in your quantity as space is limited). For questions or more information\, please contact Lupe Teichelman at (254) 757-5611 or email lteichelman@wacochamber.com
X-ALT-DESC;FMTTYPE=text/html:<!DOCTYPE html><html><head><title></title></head><body aria-disabled="false"><p>You&#39\;re invited to our New Member Luncheon on Tuesday\, May 5th from 11:30 a.m. to 1 p.m. at the Greater Waco Chamber of Commerce. You will have the opportunity to learn about what the Greater Waco Chamber can do for your business\, how you can become involved\, meet Chamber staff\, other new members\, and enjoy a free lunch. Please click the registration link below to register for this FREE new member event (feel free to bring one additional staff member and please include them in your quantity as space is limited). For questions or more information\, please contact Lupe Teichelman at (254) 757-5611 or email lteichelman@wacochamber.com</p></body></html>
LOCATION:101 S. 3rd Street Cooper Room Waco TX 76701
UID:e.1482.1399156
SEQUENCE:3
DTSTAMP:20260420T073507Z
URL:https://business.wacochamber.com/businesstoeducationcalendar/Details/new-member-luncheon-1653057?sourceTypeId=Hub
END:VEVENT
END:VCALENDAR
