BEGIN:VCALENDAR
VERSION:2.0
PRODID:-//ChamberMaster//Event Calendar 2.0//EN
METHOD:PUBLISH
X-PUBLISHED-TTL:P1H
REFRESH-INTERVAL:P1H
CALSCALE:GREGORIAN
BEGIN:VTIMEZONE
TZID:America/Chicago
BEGIN:DAYLIGHT
RRULE:FREQ=YEARLY;BYMONTH=3;BYDAY=2SU
DTSTART:20070101T000000
TZOFFSETFROM:-0600
TZOFFSETTO:-0500
TZNAME:Central Daylight Time
END:DAYLIGHT
BEGIN:STANDARD
RRULE:FREQ=YEARLY;BYMONTH=11;BYDAY=1SU
DTSTART:20070101T000000
TZOFFSETFROM:-0500
TZOFFSETTO:-0600
TZNAME:Central Standard Time
END:STANDARD
END:VTIMEZONE
BEGIN:VEVENT
DTSTART;TZID=America/Chicago:20260519T113000
DTEND;TZID=America/Chicago:20260519T130000
X-MICROSOFT-CDO-ALLDAYEVENT:FALSE
SUMMARY:Business PowerHour: "Stop the Bleed with HOTRAC"
DESCRIPTION:Business PowerHour will be held on Tuesday\, May 19th from 11:30 AM - 1:00 PM. Lunch and Networking kicks off at 11:30 AM and the presentation begins at 11:45 AM. Our guest speaker will be representatives from the Heart of Texas Regional Advisory Council (HOTRAC). TOPIC: Stop the Bleed with HOTRAC. The Heart of Texas Regional Advisory Council (HOTRAC) works with EMS providers and hospitals in the Heart of Texas region to provide injury prevention education and patient outcome improvement. One of the courses we promote is Stop the Bleed\, also called Bleeding Control. HOTRAC personnel and representatives from BSW-Hillcrest Hospital\, Ascension Providence Hospital\, and Kickstart CPR will be on hand to help teach the Stop the Bleed course. This course is designed to teach any citizen how to care for themselves or other people experiencing traumatic bleeding. Stop the Bleed will include a presentation about recognizing and stopping potentially life-threatening bleeding\, followed by practicing the techniques of applying pressure\, packing a wound\, and applying a tourniquet. We will also share information about how to schedule Stop the Bleed training anywhere in our community because The only thing more tragic than a death\, is a death that could have been prevented.
X-ALT-DESC;FMTTYPE=text/html:<!DOCTYPE html><html><head><title></title></head><body aria-disabled="false"><p>Business PowerHour will be held on Tuesday\, May 19th from 11:30 AM - 1:00 PM. Lunch and Networking kicks off at 11:30 AM and the presentation begins at 11:45 AM. Our guest speaker will be representatives from the Heart of Texas Regional Advisory Council (HOTRAC). TOPIC: Stop the Bleed with HOTRAC. The Heart of Texas Regional Advisory Council (HOTRAC) works with EMS providers and hospitals in the Heart of Texas region to provide injury prevention education and patient outcome improvement. One of the courses we promote is Stop the Bleed\, also called Bleeding Control. HOTRAC personnel and representatives from BSW-Hillcrest Hospital\, Ascension Providence Hospital\, and Kickstart CPR will be on hand to help teach the Stop the Bleed course. This course is designed to teach any citizen how to care for themselves or other people experiencing traumatic bleeding. Stop the Bleed will include a presentation about recognizing and stopping potentially life-threatening bleeding\, followed by practicing the techniques of applying pressure\, packing a wound\, and applying a tourniquet. We will also share information about how to schedule Stop the Bleed training anywhere in our community because The only thing more tragic than a death\, is a death that could have been prevented.</p></body></html>
LOCATION:101 S Third St Cooper Room Waco TX 76701
UID:e.1482.1440061
SEQUENCE:3
DTSTAMP:20260420T073824Z
URL:https://business.wacochamber.com/businesstoeducationcalendar/Details/business-powerhour-stop-the-bleed-with-hotrac-1704756?sourceTypeId=Hub
END:VEVENT
END:VCALENDAR
