BEGIN:VCALENDAR
VERSION:2.0
PRODID:-//ChamberMaster//Event Calendar 2.0//EN
METHOD:PUBLISH
X-PUBLISHED-TTL:P1H
REFRESH-INTERVAL:P1H
CALSCALE:GREGORIAN
BEGIN:VTIMEZONE
TZID:America/Chicago
BEGIN:DAYLIGHT
RRULE:FREQ=YEARLY;BYMONTH=3;BYDAY=2SU
DTSTART:20070101T000000
TZOFFSETFROM:-0600
TZOFFSETTO:-0500
TZNAME:Central Daylight Time
END:DAYLIGHT
BEGIN:STANDARD
RRULE:FREQ=YEARLY;BYMONTH=11;BYDAY=1SU
DTSTART:20070101T000000
TZOFFSETFROM:-0500
TZOFFSETTO:-0600
TZNAME:Central Standard Time
END:STANDARD
END:VTIMEZONE
BEGIN:VEVENT
DTSTART;TZID=America/Chicago:20260520T103000
DTEND;TZID=America/Chicago:20260520T113000
X-MICROSOFT-CDO-ALLDAYEVENT:FALSE
SUMMARY:1000 Friends of Waco
DESCRIPTION:1000 Friends of Waco would like to invite the community to participate in our monthly roundtable discussion focusing on Greater Downtown Waco. This monthly meeting series includes updates from various stakeholders working in the greater downtown area including: the city of Waco\, the Downtown Merchants Association\, the Public Improvement District and the Greater Waco Chamber\, among others.
X-ALT-DESC;FMTTYPE=text/html:1000 Friends of Waco would like to invite the community to participate in our monthly roundtable discussion focusing on Greater Downtown Waco. This monthly meeting series includes updates from various stakeholders working in the greater downtown area including: the city of Waco\, the Downtown Merchants Association\, the Public Improvement District and the Greater Waco Chamber\, among others.
LOCATION:900 Lake Shore Dr Waco TX 76708
UID:e.1482.1439255
SEQUENCE:3
DTSTAMP:20260420T073759Z
URL:https://business.wacochamber.com/businesstoeducationcalendar/Details/1000-friends-of-waco-1703621?sourceTypeId=Hub
END:VEVENT
END:VCALENDAR
