BEGIN:VCALENDAR
VERSION:2.0
PRODID:-//ChamberMaster//Event Calendar 2.0//EN
METHOD:PUBLISH
X-PUBLISHED-TTL:P1H
REFRESH-INTERVAL:P1H
CALSCALE:GREGORIAN
BEGIN:VTIMEZONE
TZID:America/Chicago
BEGIN:DAYLIGHT
RRULE:FREQ=YEARLY;BYMONTH=3;BYDAY=2SU
DTSTART:20070101T000000
TZOFFSETFROM:-0600
TZOFFSETTO:-0500
TZNAME:Central Daylight Time
END:DAYLIGHT
BEGIN:STANDARD
RRULE:FREQ=YEARLY;BYMONTH=11;BYDAY=1SU
DTSTART:20070101T000000
TZOFFSETFROM:-0500
TZOFFSETTO:-0600
TZNAME:Central Standard Time
END:STANDARD
END:VTIMEZONE
BEGIN:VEVENT
DTSTART;TZID=America/Chicago:20260414T100000
DTEND;TZID=America/Chicago:20260414T120000
X-MICROSOFT-CDO-ALLDAYEVENT:FALSE
SUMMARY:CTE Industry Tour - AJ Nonwovens
DESCRIPTION:AJ Nonwovens has been developing and producing premium quality needlepunch textiles since 1952. With locations in St. Louis\, Missouri\, and Hampton\, New Hampshire\, AJ Nonwovens has fulfilled orders across the country in record time and with incredible innovation. A new\, state-of-the-art location in Waco\, Texas will allow the company to expand production\, innovate even more\, and distribute products across the country faster.
X-ALT-DESC;FMTTYPE=text/html:<!DOCTYPE html><html><head><title></title></head><body aria-disabled="false"><p><span style="color: rgb(255\, 255\, 255)\; font-family: ff-meta-web-pro\, sans-serif\; font-size: 23.4px\; font-style: normal\; font-variant-ligatures: normal\; font-variant-caps: normal\; font-weight: 400\; letter-spacing: normal\; orphans: 2\; text-align: left\; text-indent: 0px\; text-transform: none\; widows: 2\; word-spacing: 0px\; -webkit-text-stroke-width: 0px\; white-space: normal\; background-color: rgb(83\, 86\, 90)\; text-decoration-thickness: initial\; text-decoration-style: initial\; text-decoration-color: initial\; display: inline !important\; float: none\;">AJ Nonwovens has been developing and producing premium quality needlepunch textiles since 1952. With locations in St. Louis\, Missouri\, and Hampton\, New Hampshire\, AJ Nonwovens has fulfilled orders across the country in record time and with incredible innovation. A new\, state-of-the-art location in Waco\, Texas will allow the company to expand production\, innovate even more\, and distribute products across the country faster.</span></p></body></html>
LOCATION:501 Tirey Rd Waco TX 76705
UID:e.1482.1406337
SEQUENCE:3
DTSTAMP:20260420T082325Z
URL:https://business.wacochamber.com/businesstoeducationcalendar/Details/cte-industry-tour-aj-nonwovens-1662169?sourceTypeId=Hub
END:VEVENT
END:VCALENDAR
